BEGIN:VCALENDAR
VERSION:2.0
PRODID:-//Tukios.com/
BEGIN:VEVENT
UID:6a5fd211-415a-46d5-af8f-36da17fdc1c3@www.chapelhillsa.com
DTSTAMP:20260425T005039Z
DTSTART:20260501T220000Z
DTEND:20260502T000000Z
SUMMARY:Visitation
DESCRIPTION:
URL:https://www.chapelhillsa.com/obituaries/pablo-garcia
LOCATION: 7735 Gibbs Sprawl Rd  San Antonio TX 78239
GEO:29.5119143;-98.3344692
END:VEVENT
END:VCALENDAR