BEGIN:VCALENDAR
VERSION:2.0
PRODID:-//Tukios.com/
BEGIN:VEVENT
UID:37cf4e03-6636-42b4-8730-315a8d677cba@www.chapelhillsa.com
DTSTAMP:20260425T004912Z
DTSTART:20260502T000000Z
DTEND:20260502T010000Z
SUMMARY:Prayer Service
DESCRIPTION:
URL:https://www.chapelhillsa.com/obituaries/pablo-garcia
LOCATION: 7735 Gibbs Sprawl Rd  San Antonio TX 78239
GEO:29.5119143;-98.3344692
END:VEVENT
END:VCALENDAR