BEGIN:VCALENDAR
VERSION:2.0
PRODID:-//Tukios.com/
BEGIN:VEVENT
UID:512e9ba8-402a-4b76-8e53-fe08538b2b0f@www.chapelhillsa.com
DTSTAMP:20260425T005553Z
DTSTART:20260502T160000Z
DTEND:20260502T170000Z
SUMMARY:Funeral Service
DESCRIPTION:
URL:https://www.chapelhillsa.com/obituaries/pablo-garcia
LOCATION: 7735 Gibbs Sprawl Rd  San Antonio TX 78239
GEO:29.5119143;-98.3344692
END:VEVENT
END:VCALENDAR