BEGIN:VCALENDAR
VERSION:2.0
PRODID:-//Tukios.com/
BEGIN:VEVENT
UID:814052d2-734a-42d5-b15f-4449cec19448@www.chapelhillsa.com
DTSTAMP:20260425T005119Z
DTSTART:20260502T170000Z
DTEND:20260502T180000Z
SUMMARY:Burial
DESCRIPTION:
URL:https://www.chapelhillsa.com/obituaries/pablo-garcia
LOCATION: 7735 Gibbs Sprawl Rd  San Antonio TX 78239
GEO:29.5119143;-98.3344692
END:VEVENT
END:VCALENDAR