BEGIN:VCALENDAR
VERSION:2.0
PRODID:-//Tukios.com/
BEGIN:VEVENT
UID:0cb25922-7326-46e1-b744-cd7ae1a6c323@www.chapelhillsa.com
DTSTAMP:20260420T180118Z
DTSTART:20260430T153000Z
DTEND:20260430T173000Z
SUMMARY:Visitation
DESCRIPTION:
URL:https://www.chapelhillsa.com/obituaries/reynaldo-navarro-jr
LOCATION: 7735 Gibbs Sprawl Rd  San Antonio TX 78239
GEO:29.5119143;-98.3344692
END:VEVENT
END:VCALENDAR