BEGIN:VCALENDAR
VERSION:2.0
PRODID:-//Tukios.com/
BEGIN:VEVENT
UID:be436602-df85-4169-9270-bf3e8c1153bd@www.chapelhillsa.com
DTSTAMP:20260420T180329Z
DTSTART:20260430T173000Z
DTEND:20260430T183000Z
SUMMARY:Rosary
DESCRIPTION:
URL:https://www.chapelhillsa.com/obituaries/reynaldo-navarro-jr
LOCATION: 7735 Gibbs Sprawl Rd  San Antonio TX 78239
GEO:29.5119143;-98.3344692
END:VEVENT
END:VCALENDAR