BEGIN:VCALENDAR
VERSION:2.0
PRODID:-//Tukios.com/
BEGIN:VEVENT
UID:35f328e8-6f3e-45ec-ab1a-31cb7d172272@www.chapelhillsa.com
DTSTAMP:20260420T180809Z
DTSTART:20260430T180000Z
DTEND:20260430T190000Z
SUMMARY:Funeral Service
DESCRIPTION:
URL:https://www.chapelhillsa.com/obituaries/reynaldo-navarro-jr
LOCATION: 7735 Gibbs Sprawl Rd  San Antonio TX 78239
GEO:29.5119143;-98.3344692
END:VEVENT
END:VCALENDAR