BEGIN:VCALENDAR
VERSION:2.0
PRODID:-//Tukios.com/
BEGIN:VEVENT
UID:c43b5c59-d6ad-4409-b469-50199ad4a7db@www.chapelhillsa.com
DTSTAMP:20260420T180723Z
DTSTART:20260430T190000Z
DTEND:20260430T200000Z
SUMMARY:Burial
DESCRIPTION:
URL:https://www.chapelhillsa.com/obituaries/reynaldo-navarro-jr
LOCATION: 7735 Gibbs Sprawl Rd  San Antonio TX 78239
GEO:29.5119143;-98.3344692
END:VEVENT
END:VCALENDAR