BEGIN:VCALENDAR
VERSION:2.0
PRODID:-//Tukios.com/
BEGIN:VEVENT
UID:3652da2e-27cc-479b-9c36-ff8b952c3fba@www.chapelhillsa.com
DTSTAMP:20260424T010203Z
DTSTART:20260428T170000Z
DTEND:20260428T180000Z
SUMMARY:Visitation
DESCRIPTION:
URL:https://www.chapelhillsa.com/obituaries/ruby-pectol
LOCATION: 7735 Gibbs Sprawl Rd  San Antonio TX 78239
GEO:29.5119143;-98.3344692
END:VEVENT
END:VCALENDAR