BEGIN:VCALENDAR
VERSION:2.0
PRODID:-//Tukios.com/
BEGIN:VEVENT
UID:396b89fc-37ab-42f1-8ba2-96912496ccaf@www.chapelhillsa.com
DTSTAMP:20260424T010256Z
DTSTART:20260428T190000Z
DTEND:20260428T200000Z
SUMMARY:Burial
DESCRIPTION:
URL:https://www.chapelhillsa.com/obituaries/ruby-pectol
LOCATION: 7735 Gibbs Sprawl Rd  San Antonio TX 78239
GEO:29.5119143;-98.3344692
END:VEVENT
END:VCALENDAR